Workbook

Sheet Panduan
B2: 📒 TEMPLATE PEMBUKUAN UMKM — PENJUALAN & KAS TERPISAH
B3: Pendapatan dari jualan dicatat terpisah dari biaya operasional, supaya jelas mana omzet dan mana pengeluaran.
B6: Ada 6 sheet (tab) di file ini:
B7: 🔵 1. Buku Penjualan
B8: Catat SETIAP transaksi jualan di sini — produk apa, berapa qty, berapa harga. Ini KHUSUS pendapatan dari jualan, jangan dicampur dengan pengeluaran.
B9: 🔵 2. Rekap Penjualan Mingguan
B10: Terisi OTOMATIS dari Buku Penjualan, dikelompokkan per minggu (Senin–Minggu). Isi cell Tahun di bagian atas, sisanya otomatis. Cocok untuk pantau omzet jangka pendek.
B11: 🔵 3. Rekap Penjualan Bulanan
B12: Terisi OTOMATIS dari Buku Penjualan, dikelompokkan per bulan. Cocok untuk melihat tren omzet dari bulan ke bulan.
B13: 🟢 4. Buku Kas Operasional
B14: Catat uang masuk yang BUKAN dari jualan (modal, pendapatan lain) dan SEMUA pengeluaran usaha: bahan baku, transport, operasional (listrik/sewa/internet), gaji, sampai uang pribadi (prive). Jualan TIDAK dicatat di sini — sudah ada di Buku Penjualan.
B15: 🟢 5. Hutang Piutang
... B29: • Kolom berwarna KUNING adalah kolom yang harus/boleh Anda isi. Kolom lain otomatis (rumus), jangan diubah.

Sheet Buku Penjualan
A1: BUKU PENJUALAN
A2: Catat setiap transaksi jualan. Kolom Total terisi otomatis (Qty x Harga Satuan).
A4: Tanggal | B4: Nama Produk | C4: Qty | D4: Harga Satuan (Rp) | E4: Total (Rp)
A5: 46027 | B5: Keripik Singkong 200gr | C5: 10 | D5: 15000 | E5: =C5*D5 -> 150000
A6: 46034 | B6: Keripik Singkong 200gr | C6: 8 | D6: 15000 | E6: =C6*D6 -> 120000
A7: 46056 | B7: Keripik Pisang 200gr | C7: 12 | D7: 17000 | E7: =C7*D7 -> 204000
E8: =C8*D8 -> 0
E9: =C9*D9 -> 0
E10: =C10*D10 -> 0
E11: =C11*D11 -> 0
E12: =C12*D12 -> 0
E13: =C13*D13 -> 0
E14: =C14*D14 -> 0
E15: =C15*D15 -> 0
E16: =C16*D16 -> 0
E17: =C17*D17 -> 0
E18: =C18*D18 -> 0
E19: =C19*D19 -> 0
... E49: =C49*D49 -> 0
B50: TOTAL | C50: =SUM(C5:C49) -> 30 | E50: =SUM(E5:E49) -> 474000
A52: Contoh isian
A53: Kolom untuk Anda isi

Sheet Rekap Penjualan Mingguan
A1: REKAP PENJUALAN MINGGUAN
A2: Terisi otomatis dari Buku Penjualan. Isi Tahun di sel kuning (B4).
A4: Tahun: | B4: 2026
A5: Minggu mengikuti kalender ISO (Senin = awal minggu).
A7: Minggu Ke | B7: Tanggal Mulai | C7: Tanggal Selesai | D7: Total Qty Terjual | E7: Total Pendapatan (Rp)
A8: Minggu 1 | B8: =DATE($B$4,1,4)-WEEKDAY(DATE($B$4,1,4),3)+(1-1)*7 -> 46020 | C8: =B8+6 -> 46026 | D8: =SUMPRODUCT((YEAR('Buku Penjualan'!$A$5:$A$49)=$B$4)*(WEEKNUM('Buku Penjualan'!$A$5:$A$49,2)=1)*'Buku Penjualan'!$C$5:$C$49) -> #VALUE! | E8: =SUMPRODUCT((YEAR('Buku Penjualan'!$A$5:$A$49)=$B$4)*(WEEKNUM('Buku Penjualan'!$A$5:$A$49,2)=1)*'Buku Penjualan'!$E$5:$E$49) -> #VALUE!
A9: Minggu 2 | B9: =DATE($B$4,1,4)-WEEKDAY(DATE($B$4,1,4),3)+(2-1)*7 -> 46027 | C9: =B9+6 -> 46033 | D9: =SUMPRODUCT((YEAR('Buku Penjualan'!$A$5:$A$49)=$B$4)*(WEEKNUM('Buku Penjualan'!$A$5:$A$49,2)=2)*'Buku Penjualan'!$C$5:$C$49) -> #VALUE! | E9: =SUMPRODUCT((YEAR('Buku Penjualan'!$A$5:$A$49)=$B$4)*(WEEKNUM('Buku Penjualan'!$A$5:$A$49,2)=2)*'Buku Penjualan'!$E$5:$E$49) -> #VALUE!
A10: Minggu 3 | B10: =DATE($B$4,1,4)-WEEKDAY(DATE($B$4,1,4),3)+(3-1)*7 -> 46034 | C10: =B10+6 -> 46040 | D10: =SUMPRODUCT((YEAR('Buku Penjualan'!$A$5:$A$49)=$B$4)*(WEEKNUM('Buku Penjualan'!$A$5:$A$49,2)=3)*'Buku Penjualan'!$C$5:$C$49) -> #VALUE! | E10: =SUMPRODUCT((YEAR('Buku Penjualan'!$A$5:$A$49)=$B$4)*(WEEKNUM('Buku Penjualan'!$A$5:$A$49,2)=3)*'Buku Penjualan'!$E$5:$E$49) -> #VALUE!
A11: Minggu 4 | B11: =DATE($B$4,1,4)-WEEKDAY(DATE($B$4,1,4),3)+(4-1)*7 -> 46041 | C11: =B11+6 -> 46047 | D11: =SUMPRODUCT((YEAR('Buku Penjualan'!$A$5:$A$49)=$B$4)*(WEEKNUM('Buku Penjualan'!$A$5:$A$49,2)=4)*'Buku Penjualan'!$C$5:$C$49) -> #VALUE! | E11: =SUMPRODUCT((YEAR('Buku Penjualan'!$A$5:$A$49)=$B$4)*(WEEKNUM('Buku Penjualan'!$A$5:$A$49,2)=4)*'Buku Penjualan'!$E$5:$E$49) -> #VALUE!
A12: Minggu 5 | B12: =DATE($B$4,1,4)-WEEKDAY(DATE($B$4,1,4),3)+(5-1)*7 -> 46048 | C12: =B12+6 -> 46054 | D12: =SUMPRODUCT((YEAR('Buku Penjualan'!$A$5:$A$49)=$B$4)*(WEEKNUM('Buku Penjualan'!$A$5:$A$49,2)=5)*'Buku Penjualan'!$C$5:$C$49) -> #VALUE! | E12: =SUMPRODUCT((YEAR('Buku Penjualan'!$A$5:$A$49)=$B$4)*(WEEKNUM('Buku Penjualan'!$A$5:$A$49,2)=5)*'Buku Penjualan'!$E$5:$E$49) -> #VALUE!
A13: Minggu 6 | B13: =DATE($B$4,1,4)-WEEKDAY(DATE($B$4,1,4),3)+(6-1)*7 -> 46055 | C13: =B13+6 -> 46061 | D13: =SUMPRODUCT((YEAR('Buku Penjualan'!$A$5:$A$49)=$B$4)*(WEEKNUM('Buku Penjualan'!$A$5:$A$49,2)=6)*'Buku Penjualan'!$C$5:$C$49) -> #VALUE! | E13: =SUMPRODUCT((YEAR('Buku Penjualan'!$A$5:$A$49)=$B$4)*(WEEKNUM('Buku Penjualan'!$A$5:$A$49,2)=6)*'Buku Penjualan'!$E$5:$E$49) -> #VALUE!
A14: Minggu 7 | B14: =DATE($B$4,1,4)-WEEKDAY(DATE($B$4,1,4),3)+(7-1)*7 -> 46062 | C14: =B14+6 -> 46068 | D14: =SUMPRODUCT((YEAR('Buku Penjualan'!$A$5:$A$49)=$B$4)*(WEEKNUM('Buku Penjualan'!$A$5:$A$49,2)=7)*'Buku Penjualan'!$C$5:$C$49) -> #VALUE! | E14: =SUMPRODUCT((YEAR('Buku Penjualan'!$A$5:$A$49)=$B$4)*(WEEKNUM('Buku Penjualan'!$A$5:$A$49,2)=7)*'Buku Penjualan'!$E$5:$E$49) -> #VALUE!
A15: Minggu 8 | B15: =DATE($B$4,1,4)-WEEKDAY(DATE($B$4,1,4),3)+(8-1)*7 -> 46069 | C15: =B15+6 -> 46075 | D15: =SUMPRODUCT((YEAR('Buku Penjualan'!$A$5:$A$49)=$B$4)*(WEEKNUM('Buku Penjualan'!$A$5:$A$49,2)=8)*'Buku Penjualan'!$C$5:$C$49) -> #VALUE! | E15: =SUMPRODUCT((YEAR('Buku Penjualan'!$A$5:$A$49)=$B$4)*(WEEKNUM('Buku Penjualan'!$A$5:$A$49,2)=8)*'Buku Penjualan'!$E$5:$E$49) -> #VALUE!
A16: Minggu 9 | B16: =DATE($B$4,1,4)-WEEKDAY(DATE($B$4,1,4),3)+(9-1)*7 -> 46076 | C16: =B16+6 -> 46082 | D16: =SUMPRODUCT((YEAR('Buku Penjualan'!$A$5:$A$49)=$B$4)*(WEEKNUM('Buku Penjualan'!$A$5:$A$49,2)=9)*'Buku Penjualan'!$C$5:$C$49) -> #VALUE! | E16: =SUMPRODUCT((YEAR('Buku Penjualan'!$A$5:$A$49)=$B$4)*(WEEKNUM('Buku Penjualan'!$A$5:$A$49,2)=9)*'Buku Penjualan'!$E$5:$E$49) -> #VALUE!
A17: Minggu 10 | B17: =DATE($B$4,1,4)-WEEKDAY(DATE($B$4,1,4),3)+(10-1)*7 -> 46083 | C17: =B17+6 -> 46089 | D17: =SUMPRODUCT((YEAR('Buku Penjualan'!$A$5:$A$49)=$B$4)*(WEEKNUM('Buku Penjualan'!$A$5:$A$49,2)=10)*'Buku Penjualan'!$C$5:$C$49) -> #VALUE! | E17: =SUMPRODUCT((YEAR('Buku Penjualan'!$A$5:$A$49)=$B$4)*(WEEKNUM('Buku Penjualan'!$A$5:$A$49,2)=10)*'Buku Penjualan'!$E$5:$E$49) -> #VALUE!
A18: Minggu 11 | B18: =DATE($B$4,1,4)-WEEKDAY(DATE($B$4,1,4),3)+(11-1)*7 -> 46090 | C18: =B18+6 -> 46096 | D18: =SUMPRODUCT((YEAR('Buku Penjualan'!$A$5:$A$49)=$B$4)*(WEEKNUM('Buku Penjualan'!$A$5:$A$49,2)=11)*'Buku Penjualan'!$C$5:$C$49) -> #VALUE! | E18: =SUMPRODUCT((YEAR('Buku Penjualan'!$A$5:$A$49)=$B$4)*(WEEKNUM('Buku Penjualan'!$A$5:$A$49,2)=11)*'Buku Penjualan'!$E$5:$E$49) -> #VALUE!
A19: Minggu 12 | B19: =DATE($B$4,1,4)-WEEKDAY(DATE($B$4,1,4),3)+(12-1)*7 -> 46097 | C19: =B19+6 -> 46103 | D19: =SUMPRODUCT((YEAR('Buku Penjualan'!$A$5:$A$49)=$B$4)*(WEEKNUM('Buku Penjualan'!$A$5:$A$49,2)=12)*'Buku Penjualan'!$C$5:$C$49) -> #VALUE! | E19: =SUMPRODUCT((YEAR('Buku Penjualan'!$A$5:$A$49)=$B$4)*(WEEKNUM('Buku Penjualan'!$A$5:$A$49,2)=12)*'Buku Penjualan'!$E$5:$E$49) -> #VALUE!
A20: Minggu 13 | B20: =DATE($B$4,1,4)-WEEKDAY(DATE($B$4,1,4),3)+(13-1)*7 -> 46104 | C20: =B20+6 -> 46110 | D20: =SUMPRODUCT((YEAR('Buku Penjualan'!$A$5:$A$49)=$B$4)*(WEEKNUM('Buku Penjualan'!$A$5:$A$49,2)=13)*'Buku Penjualan'!$C$5:$C$49) -> #VALUE! | E20: =SUMPRODUCT((YEAR('Buku Penjualan'!$A$5:$A$49)=$B$4)*(WEEKNUM('Buku Penjualan'!$A$5:$A$49,2)=13)*'Buku Penjualan'!$E$5:$E$49) -> #VALUE!
A21: Minggu 14 | B21: =DATE($B$4,1,4)-WEEKDAY(DATE($B$4,1,4),3)+(14-1)*7 -> 46111 | C21: =B21+6 -> 46117 | D21: =SUMPRODUCT((YEAR('Buku Penjualan'!$A$5:$A$49)=$B$4)*(WEEKNUM('Buku Penjualan'!$A$5:$A$49,2)=14)*'Buku Penjualan'!$C$5:$C$49) -> #VALUE! | E21: =SUMPRODUCT((YEAR('Buku Penjualan'!$A$5:$A$49)=$B$4)*(WEEKNUM('Buku Penjualan'!$A$5:$A$49,2)=14)*'Buku Penjualan'!$E$5:$E$49) -> #VALUE!
A22: Minggu 15 | B22: =DATE($B$4,1,4)-WEEKDAY(DATE($B$4,1,4),3)+(15-1)*7 -> 46118 | C22: =B22+6 -> 46124 | D22: =SUMPRODUCT((YEAR('Buku Penjualan'!$A$5:$A$49)=$B$4)*(WEEKNUM('Buku Penjualan'!$A$5:$A$49,2)=15)*'Buku Penjualan'!$C$5:$C$49) -> #VALUE! | E22: =SUMPRODUCT((YEAR('Buku Penjualan'!$A$5:$A$49)=$B$4)*(WEEKNUM('Buku Penjualan'!$A$5:$A$49,2)=15)*'Buku Penjualan'!$E$5:$E$49) -> #VALUE!
A23: Minggu 16 | B23: =DATE($B$4,1,4)-WEEKDAY(DATE($B$4,1,4),3)+(16-1)*7 -> 46125 | C23: =B23+6 -> 46131 | D23: =SUMPRODUCT((YEAR('Buku Penjualan'!$A$5:$A$49)=$B$4)*(WEEKNUM('Buku Penjualan'!$A$5:$A$49,2)=16)*'Buku Penjualan'!$C$5:$C$49) -> #VALUE! | E23: =SUMPRODUCT((YEAR('Buku Penjualan'!$A$5:$A$49)=$B$4)*(WEEKNUM('Buku Penjualan'!$A$5:$A$49,2)=16)*'Buku Penjualan'!$E$5:$E$49) -> #VALUE!
A24: Minggu 17 | B24: =DATE($B$4,1,4)-WEEKDAY(DATE($B$4,1,4),3)+(17-1)*7 -> 46132 | C24: =B24+6 -> 46138 | D24: =SUMPRODUCT((YEAR('Buku Penjualan'!$A$5:$A$49)=$B$4)*(WEEKNUM('Buku Penjualan'!$A$5:$A$49,2)=17)*'Buku Penjualan'!$C$5:$C$49) -> #VALUE! | E24: =SUMPRODUCT((YEAR('Buku Penjualan'!$A$5:$A$49)=$B$4)*(WEEKNUM('Buku Penjualan'!$A$5:$A$49,2)=17)*'Buku Penjualan'!$E$5:$E$49) -> #VALUE!
A25: Minggu 18 | B25: =DATE($B$4,1,4)-WEEKDAY(DATE($B$4,1,4),3)+(18-1)*7 -> 46139 | C25: =B25+6 -> 46145 | D25: =SUMPRODUCT((YEAR('Buku Penjualan'!$A$5:$A$49)=$B$4)*(WEEKNUM('Buku Penjualan'!$A$5:$A$49,2)=18)*'Buku Penjualan'!$C$5:$C$49) -> #VALUE! | E25: =SUMPRODUCT((YEAR('Buku Penjualan'!$A$5:$A$49)=$B$4)*(WEEKNUM('Buku Penjualan'!$A$5:$A$49,2)=18)*'Buku Penjualan'!$E$5:$E$49) -> #VALUE!
A26: Minggu 19 | B26: =DATE($B$4,1,4)-WEEKDAY(DATE($B$4,1,4),3)+(19-1)*7 -> 46146 | C26: =B26+6 -> 46152 | D26: =SUMPRODUCT((YEAR('Buku Penjualan'!$A$5:$A$49)=$B$4)*(WEEKNUM('Buku Penjualan'!$A$5:$A$49,2)=19)*'Buku Penjualan'!$C$5:$C$49) -> #VALUE! | E26: =SUMPRODUCT((YEAR('Buku Penjualan'!$A$5:$A$49)=$B$4)*(WEEKNUM('Buku Penjualan'!$A$5:$A$49,2)=19)*'Buku Penjualan'!$E$5:$E$49) -> #VALUE!
A27: Minggu 20 | B27: =DATE($B$4,1,4)-WEEKDAY(DATE($B$4,1,4),3)+(20-1)*7 -> 46153 | C27: =B27+6 -> 46159 | D27: =SUMPRODUCT((YEAR('Buku Penjualan'!$A$5:$A$49)=$B$4)*(WEEKNUM('Buku Penjualan'!$A$5:$A$49,2)=20)*'Buku Penjualan'!$C$5:$C$49) -> #VALUE! | E27: =SUMPRODUCT((YEAR('Buku Penjualan'!$A$5:$A$49)=$B$4)*(WEEKNUM('Buku Penjualan'!$A$5:$A$49,2)=20)*'Buku Penjualan'!$E$5:$E$49) -> #VALUE!
A28: Minggu 21 | B28: =DATE($B$4,1,4)-WEEKDAY(DATE($B$4,1,4),3)+(21-1)*7 -> 46160 | C28: =B28+6 -> 46166 | D28: =SUMPRODUCT((YEAR('Buku Penjualan'!$A$5:$A$49)=$B$4)*(WEEKNUM('Buku Penjualan'!$A$5:$A$49,2)=21)*'Buku Penjualan'!$C$5:$C$49) -> #VALUE! | E28: =SUMPRODUCT((YEAR('Buku Penjualan'!$A$5:$A$49)=$B$4)*(WEEKNUM('Buku Penjualan'!$A$5:$A$49,2)=21)*'Buku Penjualan'!$E$5:$E$49) -> #VALUE!
A29: Minggu 22 | B29: =DATE($B$4,1,4)-WEEKDAY(DATE($B$4,1,4),3)+(22-1)*7 -> 46167 | C29: =B29+6 -> 46173 | D29: =SUMPRODUCT((YEAR('Buku Penjualan'!$A$5:$A$49)=$B$4)*(WEEKNUM('Buku Penjualan'!$A$5:$A$49,2)=22)*'Buku Penjualan'!$C$5:$C$49) -> #VALUE! | E29: =SUMPRODUCT((YEAR('Buku Penjualan'!$A$5:$A$49)=$B$4)*(WEEKNUM('Buku Penjualan'!$A$5:$A$49,2)=22)*'Buku Penjualan'!$E$5:$E$49) -> #VALUE!
A30: Minggu 23 | B30: =DATE($B$4,1,4)-WEEKDAY(DATE($B$4,1,4),3)+(23-1)*7 -> 46174 | C30: =B30+6 -> 46180 | D30: =SUMPRODUCT((YEAR('Buku Penjualan'!$A$5:$A$49)=$B$4)*(WEEKNUM('Buku Penjualan'!$A$5:$A$49,2)=23)*'Buku Penjualan'!$C$5:$C$49) -> #VALUE! | E30: =SUMPRODUCT((YEAR('Buku Penjualan'!$A$5:$A$49)=$B$4)*(WEEKNUM('Buku Penjualan'!$A$5:$A$49,2)=23)*'Buku Penjualan'!$E$5:$E$49) -> #VALUE!
A31: Minggu 24 | B31: =DATE($B$4,1,4)-WEEKDAY(DATE($B$4,1,4),3)+(24-1)*7 -> 46181 | C31: =B31+6 -> 46187 | D31: =SUMPRODUCT((YEAR('Buku Penjualan'!$A$5:$A$49)=$B$4)*(WEEKNUM('Buku Penjualan'!$A$5:$A$49,2)=24)*'Buku Penjualan'!$C$5:$C$49) -> #VALUE! | E31: =SUMPRODUCT((YEAR('Buku Penjualan'!$A$5:$A$49)=$B$4)*(WEEKNUM('Buku Penjualan'!$A$5:$A$49,2)=24)*'Buku Penjualan'!$E$5:$E$49) -> #VALUE!
A32: Minggu 25 | B32: =DATE($B$4,1,4)-WEEKDAY(DATE($B$4,1,4),3)+(25-1)*7 -> 46188 | C32: =B32+6 -> 46194 | D32: =SUMPRODUCT((YEAR('Buku Penjualan'!$A$5:$A$49)=$B$4)*(WEEKNUM('Buku Penjualan'!$A$5:$A$49,2)=25)*'Buku Penjualan'!$C$5:$C$49) -> #VALUE! | E32: =SUMPRODUCT((YEAR('Buku Penjualan'!$A$5:$A$49)=$B$4)*(WEEKNUM('Buku Penjualan'!$A$5:$A$49,2)=25)*'Buku Penjualan'!$E$5:$E$49) -> #VALUE!
A33: Minggu 26 | B33: =DATE($B$4,1,4)-WEEKDAY(DATE($B$4,1,4),3)+(26-1)*7 -> 46195 | C33: =B33+6 -> 46201 | D33: =SUMPRODUCT((YEAR('Buku Penjualan'!$A$5:$A$49)=$B$4)*(WEEKNUM('Buku Penjualan'!$A$5:$A$49,2)=26)*'Buku Penjualan'!$C$5:$C$49) -> #VALUE! | E33: =SUMPRODUCT((YEAR('Buku Penjualan'!$A$5:$A$49)=$B$4)*(WEEKNUM('Buku Penjualan'!$A$5:$A$49,2)=26)*'Buku Penjualan'!$E$5:$E$49) -> #VALUE!
A34: Minggu 27 | B34: =DATE($B$4,1,4)-WEEKDAY(DATE($B$4,1,4),3)+(27-1)*7 -> 46202 | C34: =B34+6 -> 46208 | D34: =SUMPRODUCT((YEAR('Buku Penjualan'!$A$5:$A$49)=$B$4)*(WEEKNUM('Buku Penjualan'!$A$5:$A$49,2)=27)*'Buku Penjualan'!$C$5:$C$49) -> #VALUE! | E34: =SUMPRODUCT((YEAR('Buku Penjualan'!$A$5:$A$49)=$B$4)*(WEEKNUM('Buku Penjualan'!$A$5:$A$49,2)=27)*'Buku Penjualan'!$E$5:$E$49) -> #VALUE!
A35: Minggu 28 | B35: =DATE($B$4,1,4)-WEEKDAY(DATE($B$4,1,4),3)+(28-1)*7 -> 46209 | C35: =B35+6 -> 46215 | D35: =SUMPRODUCT((YEAR('Buku Penjualan'!$A$5:$A$49)=$B$4)*(WEEKNUM('Buku Penjualan'!$A$5:$A$49,2)=28)*'Buku Penjualan'!$C$5:$C$49) -> #VALUE! | E35: =SUMPRODUCT((YEAR('Buku Penjualan'!$A$5:$A$49)=$B$4)*(WEEKNUM('Buku Penjualan'!$A$5:$A$49,2)=28)*'Buku Penjualan'!$E$5:$E$49) -> #VALUE!
A36: Minggu 29 | B36: =DATE($B$4,1,4)-WEEKDAY(DATE($B$4,1,4),3)+(29-1)*7 -> 46216 | C36: =B36+6 -> 46222 | D36: =SUMPRODUCT((YEAR('Buku Penjualan'!$A$5:$A$49)=$B$4)*(WEEKNUM('Buku Penjualan'!$A$5:$A$49,2)=29)*'Buku Penjualan'!$C$5:$C$49) -> #VALUE! | E36: =SUMPRODUCT((YEAR('Buku Penjualan'!$A$5:$A$49)=$B$4)*(WEEKNUM('Buku Penjualan'!$A$5:$A$49,2)=29)*'Buku Penjualan'!$E$5:$E$49) -> #VALUE!
A37: Minggu 30 | B37: =DATE($B$4,1,4)-WEEKDAY(DATE($B$4,1,4),3)+(30-1)*7 -> 46223 | C37: =B37+6 -> 46229 | D37: =SUMPRODUCT((YEAR('Buku Penjualan'!$A$5:$A$49)=$B$4)*(WEEKNUM('Buku Penjualan'!$A$5:$A$49,2)=30)*'Buku Penjualan'!$C$5:$C$49) -> #VALUE! | E37: =SUMPRODUCT((YEAR('Buku Penjualan'!$A$5:$A$49)=$B$4)*(WEEKNUM('Buku Penjualan'!$A$5:$A$49,2)=30)*'Buku Penjualan'!$E$5:$E$49) -> #VALUE!
A38: Minggu 31 | B38: =DATE($B$4,1,4)-WEEKDAY(DATE($B$4,1,4),3)+(31-1)*7 -> 46230 | C38: =B38+6 -> 46236 | D38: =SUMPRODUCT((YEAR('Buku Penjualan'!$A$5:$A$49)=$B$4)*(WEEKNUM('Buku Penjualan'!$A$5:$A$49,2)=31)*'Buku Penjualan'!$C$5:$C$49) -> #VALUE! | E38: =SUMPRODUCT((YEAR('Buku Penjualan'!$A$5:$A$49)=$B$4)*(WEEKNUM('Buku Penjualan'!$A$5:$A$49,2)=31)*'Buku Penjualan'!$E$5:$E$49) -> #VALUE!
A39: Minggu 32 | B39: =DATE($B$4,1,4)-WEEKDAY(DATE($B$4,1,4),3)+(32-1)*7 -> 46237 | C39: =B39+6 -> 46243 | D39: =SUMPRODUCT((YEAR('Buku Penjualan'!$A$5:$A$49)=$B$4)*(WEEKNUM('Buku Penjualan'!$A$5:$A$49,2)=32)*'Buku Penjualan'!$C$5:$C$49) -> #VALUE! | E39: =SUMPRODUCT((YEAR('Buku Penjualan'!$A$5:$A$49)=$B$4)*(WEEKNUM('Buku Penjualan'!$A$5:$A$49,2)=32)*'Buku Penjualan'!$E$5:$E$49) -> #VALUE!
A40: Minggu 33 | B40: =DATE($B$4,1,4)-WEEKDAY(DATE($B$4,1,4),3)+(33-1)*7 -> 46244 | C40: =B40+6 -> 46250 | D40: =SUMPRODUCT((YEAR('Buku Penjualan'!$A$5:$A$49)=$B$4)*(WEEKNUM('Buku Penjualan'!$A$5:$A$49,2)=33)*'Buku Penjualan'!$C$5:$C$49) -> #VALUE! | E40: =SUMPRODUCT((YEAR('Buku Penjualan'!$A$5:$A$49)=$B$4)*(WEEKNUM('Buku Penjualan'!$A$5:$A$49,2)=33)*'Buku Penjualan'!$E$5:$E$49) -> #VALUE!
A41: Minggu 34 | B41: =DATE($B$4,1,4)-WEEKDAY(DATE($B$4,1,4),3)+(34-1)*7 -> 46251 | C41: =B41+6 -> 46257 | D41: =SUMPRODUCT((YEAR('Buku Penjualan'!$A$5:$A$49)=$B$4)*(WEEKNUM('Buku Penjualan'!$A$5:$A$49,2)=34)*'Buku Penjualan'!$C$5:$C$49) -> #VALUE! | E41: =SUMPRODUCT((YEAR('Buku Penjualan'!$A$5:$A$49)=$B$4)*(WEEKNUM('Buku Penjualan'!$A$5:$A$49,2)=34)*'Buku Penjualan'!$E$5:$E$49) -> #VALUE!
A42: Minggu 35 | B42: =DATE($B$4,1,4)-WEEKDAY(DATE($B$4,1,4),3)+(35-1)*7 -> 46258 | C42: =B42+6 -> 46264 | D42: =SUMPRODUCT((YEAR('Buku Penjualan'!$A$5:$A$49)=$B$4)*(WEEKNUM('Buku Penjualan'!$A$5:$A$49,2)=35)*'Buku Penjualan'!$C$5:$C$49) -> #VALUE! | E42: =SUMPRODUCT((YEAR('Buku Penjualan'!$A$5:$A$49)=$B$4)*(WEEKNUM('Buku Penjualan'!$A$5:$A$49,2)=35)*'Buku Penjualan'!$E$5:$E$49) -> #VALUE!
...

Sheet Rekap Penjualan Bulanan
A1: REKAP PENJUALAN BULANAN
A2: Terisi otomatis dari Buku Penjualan. Isi Tahun di sel kuning (B4).
A4: Tahun: | B4: 2026
A6: Bulan | B6: Total Qty Terjual | C6: Total Pendapatan (Rp)
A7: Januari | B7: =SUMIFS('Buku Penjualan'!$C$5:$C$49,'Buku Penjualan'!$A$5:$A$49,">="&DATE($B$4,1,1),'Buku Penjualan'!$A$5:$A$49,"<"&DATE($B$4,1+1,1)) -> 18 | C7: =SUMIFS('Buku Penjualan'!$E$5:$E$49,'Buku Penjualan'!$A$5:$A$49,">="&DATE($B$4,1,1),'Buku Penjualan'!$A$5:$A$49,"<"&DATE($B$4,1+1,1)) -> 270000
A8: Februari | B8: =SUMIFS('Buku Penjualan'!$C$5:$C$49,'Buku Penjualan'!$A$5:$A$49,">="&DATE($B$4,2,1),'Buku Penjualan'!$A$5:$A$49,"<"&DATE($B$4,2+1,1)) -> 12 | C8: =SUMIFS('Buku Penjualan'!$E$5:$E$49,'Buku Penjualan'!$A$5:$A$49,">="&DATE($B$4,2,1),'Buku Penjualan'!$A$5:$A$49,"<"&DATE($B$4,2+1,1)) -> 204000
A9: Maret | B9: =SUMIFS('Buku Penjualan'!$C$5:$C$49,'Buku Penjualan'!$A$5:$A$49,">="&DATE($B$4,3,1),'Buku Penjualan'!$A$5:$A$49,"<"&DATE($B$4,3+1,1)) -> 0 | C9: =SUMIFS('Buku Penjualan'!$E$5:$E$49,'Buku Penjualan'!$A$5:$A$49,">="&DATE($B$4,3,1),'Buku Penjualan'!$A$5:$A$49,"<"&DATE($B$4,3+1,1)) -> 0
A10: April | B10: =SUMIFS('Buku Penjualan'!$C$5:$C$49,'Buku Penjualan'!$A$5:$A$49,">="&DATE($B$4,4,1),'Buku Penjualan'!$A$5:$A$49,"<"&DATE($B$4,4+1,1)) -> 0 | C10: =SUMIFS('Buku Penjualan'!$E$5:$E$49,'Buku Penjualan'!$A$5:$A$49,">="&DATE($B$4,4,1),'Buku Penjualan'!$A$5:$A$49,"<"&DATE($B$4,4+1,1)) -> 0
A11: Mei | B11: =SUMIFS('Buku Penjualan'!$C$5:$C$49,'Buku Penjualan'!$A$5:$A$49,">="&DATE($B$4,5,1),'Buku Penjualan'!$A$5:$A$49,"<"&DATE($B$4,5+1,1)) -> 0 | C11: =SUMIFS('Buku Penjualan'!$E$5:$E$49,'Buku Penjualan'!$A$5:$A$49,">="&DATE($B$4,5,1),'Buku Penjualan'!$A$5:$A$49,"<"&DATE($B$4,5+1,1)) -> 0
A12: Juni | B12: =SUMIFS('Buku Penjualan'!$C$5:$C$49,'Buku Penjualan'!$A$5:$A$49,">="&DATE($B$4,6,1),'Buku Penjualan'!$A$5:$A$49,"<"&DATE($B$4,6+1,1)) -> 0 | C12: =SUMIFS('Buku Penjualan'!$E$5:$E$49,'Buku Penjualan'!$A$5:$A$49,">="&DATE($B$4,6,1),'Buku Penjualan'!$A$5:$A$49,"<"&DATE($B$4,6+1,1)) -> 0
A13: Juli | B13: =SUMIFS('Buku Penjualan'!$C$5:$C$49,'Buku Penjualan'!$A$5:$A$49,">="&DATE($B$4,7,1),'Buku Penjualan'!$A$5:$A$49,"<"&DATE($B$4,7+1,1)) -> 0 | C13: =SUMIFS('Buku Penjualan'!$E$5:$E$49,'Buku Penjualan'!$A$5:$A$49,">="&DATE($B$4,7,1),'Buku Penjualan'!$A$5:$A$49,"<"&DATE($B$4,7+1,1)) -> 0
A14: Agustus | B14: =SUMIFS('Buku Penjualan'!$C$5:$C$49,'Buku Penjualan'!$A$5:$A$49,">="&DATE($B$4,8,1),'Buku Penjualan'!$A$5:$A$49,"<"&DATE($B$4,8+1,1)) -> 0 | C14: =SUMIFS('Buku Penjualan'!$E$5:$E$49,'Buku Penjualan'!$A$5:$A$49,">="&DATE($B$4,8,1),'Buku Penjualan'!$A$5:$A$49,"<"&DATE($B$4,8+1,1)) -> 0
A15: September | B15: =SUMIFS('Buku Penjualan'!$C$5:$C$49,'Buku Penjualan'!$A$5:$A$49,">="&DATE($B$4,9,1),'Buku Penjualan'!$A$5:$A$49,"<"&DATE($B$4,9+1,1)) -> 0 | C15: =SUMIFS('Buku Penjualan'!$E$5:$E$49,'Buku Penjualan'!$A$5:$A$49,">="&DATE($B$4,9,1),'Buku Penjualan'!$A$5:$A$49,"<"&DATE($B$4,9+1,1)) -> 0
A16: Oktober | B16: =SUMIFS('Buku Penjualan'!$C$5:$C$49,'Buku Penjualan'!$A$5:$A$49,">="&DATE($B$4,10,1),'Buku Penjualan'!$A$5:$A$49,"<"&DATE($B$4,10+1,1)) -> 0 | C16: =SUMIFS('Buku Penjualan'!$E$5:$E$49,'Buku Penjualan'!$A$5:$A$49,">="&DATE($B$4,10,1),'Buku Penjualan'!$A$5:$A$49,"<"&DATE($B$4,10+1,1)) -> 0
A17: November | B17: =SUMIFS('Buku Penjualan'!$C$5:$C$49,'Buku Penjualan'!$A$5:$A$49,">="&DATE($B$4,11,1),'Buku Penjualan'!$A$5:$A$49,"<"&DATE($B$4,11+1,1)) -> 0 | C17: =SUMIFS('Buku Penjualan'!$E$5:$E$49,'Buku Penjualan'!$A$5:$A$49,">="&DATE($B$4,11,1),'Buku Penjualan'!$A$5:$A$49,"<"&DATE($B$4,11+1,1)) -> 0
A18: Desember | B18: =SUMIFS('Buku Penjualan'!$C$5:$C$49,'Buku Penjualan'!$A$5:$A$49,">="&DATE($B$4,12,1),'Buku Penjualan'!$A$5:$A$49,"<"&DATE($B$4,12+1,1)) -> 0 | C18: =SUMIFS('Buku Penjualan'!$E$5:$E$49,'Buku Penjualan'!$A$5:$A$49,">="&DATE($B$4,12,1),'Buku Penjualan'!$A$5:$A$49,"<"&DATE($B$4,12+1,1)) -> 0
A19: TOTAL SETAHUN | B19: =SUM(B7:B18) -> 30 | C19: =SUM(C7:C18) -> 474000

Sheet Buku Kas Operasional
A1: BUKU KAS OPERASIONAL
A2: Uang masuk NON-jualan (modal, pendapatan lain) dan SEMUA pengeluaran usaha. Jualan tidak dicatat di sini.
A4: Tanggal | B4: Keterangan | C4: Kategori | D4: Kas Masuk (Rp) | E4: Kas Keluar (Rp) | F4: Saldo (Rp)
A5: 46023 | B5: Saldo Awal Kas/Bank | C5: Modal | D5: 2000000 | F5: =D5-E5 -> 2000000
A6: 46025 | B6: Beli bahan baku singkong & minyak | C6: Pembelian Bahan Baku | E6: 250000 | F6: =F5+D6-E6 -> 1750000
A7: 46028 | B7: Ongkos ojek antar barang ke warung | C7: Transport | E7: 30000 | F7: =F6+D7-E7 -> 1720000
F8: =F7+D8-E8 -> 1720000
F9: =F8+D9-E9 -> 1720000
F10: =F9+D10-E10 -> 1720000
F11: =F10+D11-E11 -> 1720000
F12: =F11+D12-E12 -> 1720000
F13: =F12+D13-E13 -> 1720000
F14: =F13+D14-E14 -> 1720000
F15: =F14+D15-E15 -> 1720000
F16: =F15+D16-E16 -> 1720000
F17: =F16+D17-E17 -> 1720000
F18: =F17+D18-E18 -> 1720000
F19: =F18+D19-E19 -> 1720000
... F44: =F43+D44-E44 -> 1720000
B45: TOTAL | D45: =SUM(D6:D44) -> 0 | E45: =SUM(E6:E44) -> 280000 | F45: =F44 -> 1720000
A47: Contoh isian
A48: Kolom untuk Anda isi

Sheet Hutang Piutang
A1: CATATAN HUTANG & PIUTANG
A2: Piutang = uang yang akan diterima usaha. Hutang = uang yang harus dibayar usaha.
A4: Tanggal | B4: Nama Pihak | C4: Jenis | D4: Keterangan | E4: Jumlah (Rp) | F4: Status | G4: Tgl Lunas
A5: 46027 | B5: Toko Sumber Jaya | C5: Hutang | D5: Beli bahan baku, bayar 2 minggu lagi | E5: 300000 | F5: Belum Lunas
A6: 46028 | B6: Bu Rina (pelanggan) | C6: Piutang | D6: Ambil barang, bayar menyusul | E6: 150000 | F6: Belum Lunas
A31: Total Piutang Belum Lunas | E31: =SUMIFS(E5:E29,C5:C29,"Piutang",F5:F29,"Belum Lunas") -> 150000
A32: Total Hutang Belum Lunas | E32: =SUMIFS(E5:E29,C5:C29,"Hutang",F5:F29,"Belum Lunas") -> 300000

Sheet Rekap Laba Rugi Bulanan
A1: REKAP LABA RUGI BULANAN
A2: Gabungan otomatis dari Buku Penjualan + Buku Kas Operasional. Isi Tahun di sel kuning (B4).
A4: Tahun: | B4: 2026
A6: Bulan | B6: Total Penjualan (Rp) | C6: Pendapatan Lain (Rp) | D6: Pengeluaran Usaha (Rp) | E6: Prive/Pribadi (Rp) | F6: Laba/(Rugi) Usaha (Rp)
A7: Januari | B7: =SUMIFS('Buku Penjualan'!$E$5:$E$49,'Buku Penjualan'!$A$5:$A$49,">="&DATE($B$4,1,1),'Buku Penjualan'!$A$5:$A$49,"<"&DATE($B$4,1+1,1)) -> 270000 | C7: =SUMIFS('Buku Kas Operasional'!$D$5:$D$44,'Buku Kas Operasional'!$C$5:$C$44,"Pendapatan Lain",'Buku Kas Operasional'!$A$5:$A$44,">="&DATE($B$4,1,1),'Buku Kas Operasional'!$A$5:$A$44,"<"&DATE($B$4,1+1,1)) -> 0 | D7: =SUMIFS('Buku Kas Operasional'!$E$5:$E$44,'Buku Kas Operasional'!$C$5:$C$44,"<>Prive/Pribadi",'Buku Kas Operasional'!$A$5:$A$44,">="&DATE($B$4,1,1),'Buku Kas Operasional'!$A$5:$A$44,"<"&DATE($B$4,1+1,1)) -> 280000 | E7: =SUMIFS('Buku Kas Operasional'!$E$5:$E$44,'Buku Kas Operasional'!$C$5:$C$44,"Prive/Pribadi",'Buku Kas Operasional'!$A$5:$A$44,">="&DATE($B$4,1,1),'Buku Kas Operasional'!$A$5:$A$44,"<"&DATE($B$4,1+1,1)) -> 0 | F7: =B7+C7-D7 -> -10000
A8: Februari | B8: =SUMIFS('Buku Penjualan'!$E$5:$E$49,'Buku Penjualan'!$A$5:$A$49,">="&DATE($B$4,2,1),'Buku Penjualan'!$A$5:$A$49,"<"&DATE($B$4,2+1,1)) -> 204000 | C8: =SUMIFS('Buku Kas Operasional'!$D$5:$D$44,'Buku Kas Operasional'!$C$5:$C$44,"Pendapatan Lain",'Buku Kas Operasional'!$A$5:$A$44,">="&DATE($B$4,2,1),'Buku Kas Operasional'!$A$5:$A$44,"<"&DATE($B$4,2+1,1)) -> 0 | D8: =SUMIFS('Buku Kas Operasional'!$E$5:$E$44,'Buku Kas Operasional'!$C$5:$C$44,"<>Prive/Pribadi",'Buku Kas Operasional'!$A$5:$A$44,">="&DATE($B$4,2,1),'Buku Kas Operasional'!$A$5:$A$44,"<"&DATE($B$4,2+1,1)) -> 0 | E8: =SUMIFS('Buku Kas Operasional'!$E$5:$E$44,'Buku Kas Operasional'!$C$5:$C$44,"Prive/Pribadi",'Buku Kas Operasional'!$A$5:$A$44,">="&DATE($B$4,2,1),'Buku Kas Operasional'!$A$5:$A$44,"<"&DATE($B$4,2+1,1)) -> 0 | F8: =B8+C8-D8 -> 204000
A9: Maret | B9: =SUMIFS('Buku Penjualan'!$E$5:$E$49,'Buku Penjualan'!$A$5:$A$49,">="&DATE($B$4,3,1),'Buku Penjualan'!$A$5:$A$49,"<"&DATE($B$4,3+1,1)) -> 0 | C9: =SUMIFS('Buku Kas Operasional'!$D$5:$D$44,'Buku Kas Operasional'!$C$5:$C$44,"Pendapatan Lain",'Buku Kas Operasional'!$A$5:$A$44,">="&DATE($B$4,3,1),'Buku Kas Operasional'!$A$5:$A$44,"<"&DATE($B$4,3+1,1)) -> 0 | D9: =SUMIFS('Buku Kas Operasional'!$E$5:$E$44,'Buku Kas Operasional'!$C$5:$C$44,"<>Prive/Pribadi",'Buku Kas Operasional'!$A$5:$A$44,">="&DATE($B$4,3,1),'Buku Kas Operasional'!$A$5:$A$44,"<"&DATE($B$4,3+1,1)) -> 0 | E9: =SUMIFS('Buku Kas Operasional'!$E$5:$E$44,'Buku Kas Operasional'!$C$5:$C$44,"Prive/Pribadi",'Buku Kas Operasional'!$A$5:$A$44,">="&DATE($B$4,3,1),'Buku Kas Operasional'!$A$5:$A$44,"<"&DATE($B$4,3+1,1)) -> 0 | F9: =B9+C9-D9 -> 0
A10: April | B10: =SUMIFS('Buku Penjualan'!$E$5:$E$49,'Buku Penjualan'!$A$5:$A$49,">="&DATE($B$4,4,1),'Buku Penjualan'!$A$5:$A$49,"<"&DATE($B$4,4+1,1)) -> 0 | C10: =SUMIFS('Buku Kas Operasional'!$D$5:$D$44,'Buku Kas Operasional'!$C$5:$C$44,"Pendapatan Lain",'Buku Kas Operasional'!$A$5:$A$44,">="&DATE($B$4,4,1),'Buku Kas Operasional'!$A$5:$A$44,"<"&DATE($B$4,4+1,1)) -> 0 | D10: =SUMIFS('Buku Kas Operasional'!$E$5:$E$44,'Buku Kas Operasional'!$C$5:$C$44,"<>Prive/Pribadi",'Buku Kas Operasional'!$A$5:$A$44,">="&DATE($B$4,4,1),'Buku Kas Operasional'!$A$5:$A$44,"<"&DATE($B$4,4+1,1)) -> 0 | E10: =SUMIFS('Buku Kas Operasional'!$E$5:$E$44,'Buku Kas Operasional'!$C$5:$C$44,"Prive/Pribadi",'Buku Kas Operasional'!$A$5:$A$44,">="&DATE($B$4,4,1),'Buku Kas Operasional'!$A$5:$A$44,"<"&DATE($B$4,4+1,1)) -> 0 | F10: =B10+C10-D10 -> 0
A11: Mei | B11: =SUMIFS('Buku Penjualan'!$E$5:$E$49,'Buku Penjualan'!$A$5:$A$49,">="&DATE($B$4,5,1),'Buku Penjualan'!$A$5:$A$49,"<"&DATE($B$4,5+1,1)) -> 0 | C11: =SUMIFS('Buku Kas Operasional'!$D$5:$D$44,'Buku Kas Operasional'!$C$5:$C$44,"Pendapatan Lain",'Buku Kas Operasional'!$A$5:$A$44,">="&DATE($B$4,5,1),'Buku Kas Operasional'!$A$5:$A$44,"<"&DATE($B$4,5+1,1)) -> 0 | D11: =SUMIFS('Buku Kas Operasional'!$E$5:$E$44,'Buku Kas Operasional'!$C$5:$C$44,"<>Prive/Pribadi",'Buku Kas Operasional'!$A$5:$A$44,">="&DATE($B$4,5,1),'Buku Kas Operasional'!$A$5:$A$44,"<"&DATE($B$4,5+1,1)) -> 0 | E11: =SUMIFS('Buku Kas Operasional'!$E$5:$E$44,'Buku Kas Operasional'!$C$5:$C$44,"Prive/Pribadi",'Buku Kas Operasional'!$A$5:$A$44,">="&DATE($B$4,5,1),'Buku Kas Operasional'!$A$5:$A$44,"<"&DATE($B$4,5+1,1)) -> 0 | F11: =B11+C11-D11 -> 0
A12: Juni | B12: =SUMIFS('Buku Penjualan'!$E$5:$E$49,'Buku Penjualan'!$A$5:$A$49,">="&DATE($B$4,6,1),'Buku Penjualan'!$A$5:$A$49,"<"&DATE($B$4,6+1,1)) -> 0 | C12: =SUMIFS('Buku Kas Operasional'!$D$5:$D$44,'Buku Kas Operasional'!$C$5:$C$44,"Pendapatan Lain",'Buku Kas Operasional'!$A$5:$A$44,">="&DATE($B$4,6,1),'Buku Kas Operasional'!$A$5:$A$44,"<"&DATE($B$4,6+1,1)) -> 0 | D12: =SUMIFS('Buku Kas Operasional'!$E$5:$E$44,'Buku Kas Operasional'!$C$5:$C$44,"<>Prive/Pribadi",'Buku Kas Operasional'!$A$5:$A$44,">="&DATE($B$4,6,1),'Buku Kas Operasional'!$A$5:$A$44,"<"&DATE($B$4,6+1,1)) -> 0 | E12: =SUMIFS('Buku Kas Operasional'!$E$5:$E$44,'Buku Kas Operasional'!$C$5:$C$44,"Prive/Pribadi",'Buku Kas Operasional'!$A$5:$A$44,">="&DATE($B$4,6,1),'Buku Kas Operasional'!$A$5:$A$44,"<"&DATE($B$4,6+1,1)) -> 0 | F12: =B12+C12-D12 -> 0
A13: Juli | B13: =SUMIFS('Buku Penjualan'!$E$5:$E$49,'Buku Penjualan'!$A$5:$A$49,">="&DATE($B$4,7,1),'Buku Penjualan'!$A$5:$A$49,"<"&DATE($B$4,7+1,1)) -> 0 | C13: =SUMIFS('Buku Kas Operasional'!$D$5:$D$44,'Buku Kas Operasional'!$C$5:$C$44,"Pendapatan Lain",'Buku Kas Operasional'!$A$5:$A$44,">="&DATE($B$4,7,1),'Buku Kas Operasional'!$A$5:$A$44,"<"&DATE($B$4,7+1,1)) -> 0 | D13: =SUMIFS('Buku Kas Operasional'!$E$5:$E$44,'Buku Kas Operasional'!$C$5:$C$44,"<>Prive/Pribadi",'Buku Kas Operasional'!$A$5:$A$44,">="&DATE($B$4,7,1),'Buku Kas Operasional'!$A$5:$A$44,"<"&DATE($B$4,7+1,1)) -> 0 | E13: =SUMIFS('Buku Kas Operasional'!$E$5:$E$44,'Buku Kas Operasional'!$C$5:$C$44,"Prive/Pribadi",'Buku Kas Operasional'!$A$5:$A$44,">="&DATE($B$4,7,1),'Buku Kas Operasional'!$A$5:$A$44,"<"&DATE($B$4,7+1,1)) -> 0 | F13: =B13+C13-D13 -> 0
A14: Agustus | B14: =SUMIFS('Buku Penjualan'!$E$5:$E$49,'Buku Penjualan'!$A$5:$A$49,">="&DATE($B$4,8,1),'Buku Penjualan'!$A$5:$A$49,"<"&DATE($B$4,8+1,1)) -> 0 | C14: =SUMIFS('Buku Kas Operasional'!$D$5:$D$44,'Buku Kas Operasional'!$C$5:$C$44,"Pendapatan Lain",'Buku Kas Operasional'!$A$5:$A$44,">="&DATE($B$4,8,1),'Buku Kas Operasional'!$A$5:$A$44,"<"&DATE($B$4,8+1,1)) -> 0 | D14: =SUMIFS('Buku Kas Operasional'!$E$5:$E$44,'Buku Kas Operasional'!$C$5:$C$44,"<>Prive/Pribadi",'Buku Kas Operasional'!$A$5:$A$44,">="&DATE($B$4,8,1),'Buku Kas Operasional'!$A$5:$A$44,"<"&DATE($B$4,8+1,1)) -> 0 | E14: =SUMIFS('Buku Kas Operasional'!$E$5:$E$44,'Buku Kas Operasional'!$C$5:$C$44,"Prive/Pribadi",'Buku Kas Operasional'!$A$5:$A$44,">="&DATE($B$4,8,1),'Buku Kas Operasional'!$A$5:$A$44,"<"&DATE($B$4,8+1,1)) -> 0 | F14: =B14+C14-D14 -> 0
A15: September | B15: =SUMIFS('Buku Penjualan'!$E$5:$E$49,'Buku Penjualan'!$A$5:$A$49,">="&DATE($B$4,9,1),'Buku Penjualan'!$A$5:$A$49,"<"&DATE($B$4,9+1,1)) -> 0 | C15: =SUMIFS('Buku Kas Operasional'!$D$5:$D$44,'Buku Kas Operasional'!$C$5:$C$44,"Pendapatan Lain",'Buku Kas Operasional'!$A$5:$A$44,">="&DATE($B$4,9,1),'Buku Kas Operasional'!$A$5:$A$44,"<"&DATE($B$4,9+1,1)) -> 0 | D15: =SUMIFS('Buku Kas Operasional'!$E$5:$E$44,'Buku Kas Operasional'!$C$5:$C$44,"<>Prive/Pribadi",'Buku Kas Operasional'!$A$5:$A$44,">="&DATE($B$4,9,1),'Buku Kas Operasional'!$A$5:$A$44,"<"&DATE($B$4,9+1,1)) -> 0 | E15: =SUMIFS('Buku Kas Operasional'!$E$5:$E$44,'Buku Kas Operasional'!$C$5:$C$44,"Prive/Pribadi",'Buku Kas Operasional'!$A$5:$A$44,">="&DATE($B$4,9,1),'Buku Kas Operasional'!$A$5:$A$44,"<"&DATE($B$4,9+1,1)) -> 0 | F15: =B15+C15-D15 -> 0
A16: Oktober | B16: =SUMIFS('Buku Penjualan'!$E$5:$E$49,'Buku Penjualan'!$A$5:$A$49,">="&DATE($B$4,10,1),'Buku Penjualan'!$A$5:$A$49,"<"&DATE($B$4,10+1,1)) -> 0 | C16: =SUMIFS('Buku Kas Operasional'!$D$5:$D$44,'Buku Kas Operasional'!$C$5:$C$44,"Pendapatan Lain",'Buku Kas Operasional'!$A$5:$A$44,">="&DATE($B$4,10,1),'Buku Kas Operasional'!$A$5:$A$44,"<"&DATE($B$4,10+1,1)) -> 0 | D16: =SUMIFS('Buku Kas Operasional'!$E$5:$E$44,'Buku Kas Operasional'!$C$5:$C$44,"<>Prive/Pribadi",'Buku Kas Operasional'!$A$5:$A$44,">="&DATE($B$4,10,1),'Buku Kas Operasional'!$A$5:$A$44,"<"&DATE($B$4,10+1,1)) -> 0 | E16: =SUMIFS('Buku Kas Operasional'!$E$5:$E$44,'Buku Kas Operasional'!$C$5:$C$44,"Prive/Pribadi",'Buku Kas Operasional'!$A$5:$A$44,">="&DATE($B$4,10,1),'Buku Kas Operasional'!$A$5:$A$44,"<"&DATE($B$4,10+1,1)) -> 0 | F16: =B16+C16-D16 -> 0
A17: November | B17: =SUMIFS('Buku Penjualan'!$E$5:$E$49,'Buku Penjualan'!$A$5:$A$49,">="&DATE($B$4,11,1),'Buku Penjualan'!$A$5:$A$49,"<"&DATE($B$4,11+1,1)) -> 0 | C17: =SUMIFS('Buku Kas Operasional'!$D$5:$D$44,'Buku Kas Operasional'!$C$5:$C$44,"Pendapatan Lain",'Buku Kas Operasional'!$A$5:$A$44,">="&DATE($B$4,11,1),'Buku Kas Operasional'!$A$5:$A$44,"<"&DATE($B$4,11+1,1)) -> 0 | D17: =SUMIFS('Buku Kas Operasional'!$E$5:$E$44,'Buku Kas Operasional'!$C$5:$C$44,"<>Prive/Pribadi",'Buku Kas Operasional'!$A$5:$A$44,">="&DATE($B$4,11,1),'Buku Kas Operasional'!$A$5:$A$44,"<"&DATE($B$4,11+1,1)) -> 0 | E17: =SUMIFS('Buku Kas Operasional'!$E$5:$E$44,'Buku Kas Operasional'!$C$5:$C$44,"Prive/Pribadi",'Buku Kas Operasional'!$A$5:$A$44,">="&DATE($B$4,11,1),'Buku Kas Operasional'!$A$5:$A$44,"<"&DATE($B$4,11+1,1)) -> 0 | F17: =B17+C17-D17 -> 0
A18: Desember | B18: =SUMIFS('Buku Penjualan'!$E$5:$E$49,'Buku Penjualan'!$A$5:$A$49,">="&DATE($B$4,12,1),'Buku Penjualan'!$A$5:$A$49,"<"&DATE($B$4,12+1,1)) -> 0 | C18: =SUMIFS('Buku Kas Operasional'!$D$5:$D$44,'Buku Kas Operasional'!$C$5:$C$44,"Pendapatan Lain",'Buku Kas Operasional'!$A$5:$A$44,">="&DATE($B$4,12,1),'Buku Kas Operasional'!$A$5:$A$44,"<"&DATE($B$4,12+1,1)) -> 0 | D18: =SUMIFS('Buku Kas Operasional'!$E$5:$E$44,'Buku Kas Operasional'!$C$5:$C$44,"<>Prive/Pribadi",'Buku Kas Operasional'!$A$5:$A$44,">="&DATE($B$4,12,1),'Buku Kas Operasional'!$A$5:$A$44,"<"&DATE($B$4,12+1,1)) -> 0 | E18: =SUMIFS('Buku Kas Operasional'!$E$5:$E$44,'Buku Kas Operasional'!$C$5:$C$44,"Prive/Pribadi",'Buku Kas Operasional'!$A$5:$A$44,">="&DATE($B$4,12,1),'Buku Kas Operasional'!$A$5:$A$44,"<"&DATE($B$4,12+1,1)) -> 0 | F18: =B18+C18-D18 -> 0
A19: TOTAL SETAHUN | B19: =SUM(B7:B18) -> 474000 | C19: =SUM(C7:C18) -> 0 | D19: =SUM(D7:D18) -> 280000 | E19: =SUM(E7:E18) -> 0 | F19: =SUM(F7:F18) -> 194000
A21: Catatan: Laba/(Rugi) Usaha = Total Penjualan + Pendapatan Lain - Pengeluaran Usaha. Prive/Pribadi tidak dihitung sebagai biaya karena itu penarikan pribadi, bukan biaya operasional.
